BEGIN:VCALENDAR
VERSION:2.0
PRODID:-//eventon.com NONSGML v1.0//EN
CALSCALE:GREGORIAN
METHOD:PUBLISH
BEGIN:VEVENT
UID:69e56338264d8
DTSTAMP:20260419T232024Z
DTSTART:20231102
DTEND:20231103
LOCATION:Winnica - Kazimierz Dolny Góry II 3d\,  24-120\,  Kazimierz Dolny
SUMMARY:Zaduszki Jogiczne w Kazimierzu Dolnym
DESCRIPTION:Zaduszki Jogiczne &#8211; Kazimierz Dolny nad Wisłą zanurz si
 ę w ciszy\,  w oddechu\,  w spokoju regenerująca praktyka jogi dla począ
 tkujących i zaawansowanych oczyszczająca pranajama wyciszająca medytacja
  komfortowe pokoje z łazienkami w uroczym pensjonacie ośmiokątna sala do
  praktyki kameralna grupa sauna Cena: 1690 zł. (w cenie: noclegi\,  posił
 ki\,  kurs jogi) Miejsce:[..]\nhttps://yogamudra.pl/events/zaduszki-jogiczn
 e-lis-2023/
URL:https://yogamudra.pl/events/zaduszki-jogiczne-lis-2023/
END:VEVENT
END:VCALENDAR