BEGIN:VCALENDAR
VERSION:2.0
PRODID:-//eventon.com NONSGML v1.0//EN
CALSCALE:GREGORIAN
METHOD:PUBLISH
BEGIN:VEVENT
UID:69e72888da335
DTSTAMP:20260421T073432Z
DTSTART:20240213
DTEND:20240214
LOCATION:Indie
SUMMARY:PODRÓŻE Z JOGĄ: INDIE POŁUDNIOWE
DESCRIPTION:Podróże joginów po południowych Indiach &#8211; świątynny
 m Tamilnadu i zielonej Kerali! A na koniec\,  krótka\,  acz znacząca wizy
 ta w Mumbaju! Idealny melanż spotkań z kulturą\,  zwiedzania i odpoczynk
 u w asanie\,  jak również poza matą. Bo zachowanie równowagi jest istot
 ne nie tylko w jodze! Wyjazd zorganizowany przy współpracy z MIEJSCA Biur
 o[..]\nhttps://yogamudra.pl/events/podroze-joginow-indie-poludniowe-luty-20
 24/
URL:https://yogamudra.pl/events/podroze-joginow-indie-poludniowe-luty-2024/
END:VEVENT
END:VCALENDAR