BEGIN:VCALENDAR
VERSION:2.0
PRODID:-//eventon.com NONSGML v1.0//EN
CALSCALE:GREGORIAN
METHOD:PUBLISH
BEGIN:VEVENT
UID:69e7482ae31a7
DTSTAMP:20260421T094930Z
DTSTART:20250215T130000Z
DTEND:20250215T160000Z
LOCATION:Yogamudra - Pracownia Jogi ul. Śniadeckich 17\,  00-654\,  Warszawa
SUMMARY:Łagodność
DESCRIPTION:Sobotni warsztat jogi z Anią Ekielską w Pracowni Jogi &#8211;
  Yogamudra. Zapraszamy na warsztat jogi ze zrównoważoną i łagodną prak
 tyką. Warsztat jest dla początkujących i zaawansowanych\,  niezależnie 
 od potrzeb i możliwości. Zapraszamy wszystkich\,  którzy potrzebują wyt
 chnienia i rozluźnienia\,  którzy zmagają się ze stresem. Sesja będzie
  składała się z praktyki asan[..]\nhttps://yogamudra.pl/events/lagodnosc
 /
URL:https://yogamudra.pl/events/lagodnosc/
END:VEVENT
END:VCALENDAR