BEGIN:VCALENDAR
VERSION:2.0
PRODID:-//eventon.com NONSGML v1.0//EN
CALSCALE:GREGORIAN
METHOD:PUBLISH
BEGIN:VEVENT
UID:69e8a3add0339
DTSTAMP:20260422T103213Z
DTSTART:20250301T130000Z
DTEND:20250301T160000Z
LOCATION:Yogamudra - Pracownia Jogi ul. Åšniadeckich 17\,  00-654\,  Warszawa
SUMMARY:Warsztat z MartÄ… SkotnickÄ…: taÅ›my anatomiczne w asanach II
DESCRIPTION:Warsztat z MartÄ… SkotnickÄ… przybliÅ¼y pojÄ™cieÂ taÅ›m anatomi
 cznychÂ w asanach z rÃ³Å¼nych grup\,  m.in. wygiÄ™Ä‡ w tyÅ‚\,  skÅ‚onÃ³w i 
 skrÄ™tÃ³w. BÄ™dÄ… one punktem wyjÅ›cia do praktykiÂ kierunkÃ³w ruchuÂ w poz
 ycjach jogi. ÅšwiadomoÅ›Ä‡Â prawidÅ‚owych wzorcÃ³w ruchowychÂ pomaga unikaÄ
 ‡ w praktyce jogi gruntowania negatywnych nawykÃ³w\,  ktÃ³re czÄ™sto przycz
 yniajÄ… siÄ™ do powstawania kontuzji. Proste plecy\,  otwarta klatka piersi
 owa\,  stabilny[..]\nhttps://yogamudra.pl/events/warsztat-z-marta-skotnicka
 -tasmy-anatomiczne-w-asanach-ii/
URL:https://yogamudra.pl/events/warsztat-z-marta-skotnicka-tasmy-anatomiczne-w-asanach-ii/
END:VEVENT
END:VCALENDAR