BEGIN:VCALENDAR
VERSION:2.0
PRODID:-//eventon.com NONSGML v1.0//EN
CALSCALE:GREGORIAN
METHOD:PUBLISH
BEGIN:VEVENT
UID:69e735bfd15dd
DTSTAMP:20260421T083055Z
DTSTART:20260408T150000Z
DTEND:20260408T161500Z
LOCATION:Yogamudra - Pracownia Jogi ul. Śniadeckich 17\,  00-654\,  Warszawa
SUMMARY:Joga dynamiczna (vinyasa) - Alicja Basiewicz
DESCRIPTION:Joga dynamiczna jest piękną\,  stosunkowo nową w Europie for
 mą praktyki. Charakteryzuje się płynnością\,  niekiedy powtarzalności
 ą i nakierowuje koncentrację praktykującego na oddech. To właśnie on r
 ytmicznie prowadzi nas przez kolejne pozycje oczyszczając i uzdrawiając c
 iało. Podczas zajęć tworzona jest sekwencja asan\,  stopniowo rozwijana 
 i pogłębiana\,  co daje możliwość stopniowego poszerzania praktyki[..]
 \nhttps://yogamudra.pl/events/joga-dynamiczna-vinyasa-sr-17-00/var/ri-1.l-L
 1
URL:https://yogamudra.pl/events/joga-dynamiczna-vinyasa-sr-17-00/var/ri-1.l-L1
END:VEVENT
END:VCALENDAR