BEGIN:VCALENDAR
VERSION:2.0
PRODID:-//eventon.com NONSGML v1.0//EN
CALSCALE:GREGORIAN
METHOD:PUBLISH
BEGIN:VEVENT
UID:69e735bfd4d9b
DTSTAMP:20260421T083055Z
DTSTART:20260604T090000Z
DTEND:20260607T120000Z
LOCATION:Oczyszczalnia na Mazowszu Ludwików 26\,  96-515 Teresin
SUMMARY:Czerwcówka z jogą w Oczyszczalni
DESCRIPTION:Czerwcówka z jogą w Oczyszczalni pod Warszawą Wyrwij się z 
 miejskiego zgiełku\,  odpręż i zrelaksuj w cudownym ośrodku niedaleko o
 d Warszawy. Blisko miasta\,  a można poczuć się jak w dalekiej krainie. 
 oczyszczające i wzmacniająca praktyka jogi energetyzujące ćwiczenia odd
 echowe wyciszająca medytacja zajęcia jogi dla początkujących i zaawanso
 wanych przestronna rozświetlona sala[..]\nhttps://yogamudra.pl/events/czer
 wcowka-z-joga-w-oczyszczalni-cze-2026/
URL:https://yogamudra.pl/events/czerwcowka-z-joga-w-oczyszczalni-cze-2026/
END:VEVENT
END:VCALENDAR