BEGIN:VCALENDAR
VERSION:2.0
PRODID:-//eventon.com NONSGML v1.0//EN
CALSCALE:GREGORIAN
METHOD:PUBLISH
BEGIN:VEVENT
UID:69e67da58107f
DTSTAMP:20260420T192525Z
DTSTART:20260628T160000Z
DTEND:20260704T110000Z
LOCATION:Lipowy Dom na Mazurach 11-710 Lipowo
SUMMARY:Wakacje z jogÄ… na Mazurach w Lipowym Domu
DESCRIPTION:Wakacje z jogÄ… w Lipowie na Mazurach Lipowy Dom znamy od poczÄ
 …tku powstania tego miejsca i wracamy tam od 20 lat z nostalgiÄ… na poczÄ…t
 ku kaÅ¼dego sezonu wakacyjnego. Warsztaty w tym miejscu Å‚Ä…czÄ… totalny ch
 ill\,  kÄ…piele w czystym jeziorze o kaÅ¼dej porze dnia i nocy\,  cudowne m
 asaÅ¼e lomi lomi z[..]\nhttps://yogamudra.pl/events/wakacje-z-joga-na-mazur
 ach-w-lipowym-domu-2026/
URL:https://yogamudra.pl/events/wakacje-z-joga-na-mazurach-w-lipowym-domu-2026/
END:VEVENT
END:VCALENDAR